BEGIN:VCALENDAR
METHOD:PUBLISH
VERSION:2.0
PRODID:-//Eventilla iCal Syndication//NONSGML Liana//EN
BEGIN:VEVENT
UID:nyZbP@eventilla.com
DTSTAMP:20210505T210000Z
DTSTART:20210505T210000Z
DTEND:20220912T210000Z
SUMMARY:Haku Specian hallitukseen
LOCATION:
URL:http://palvelut.specia.fi/hallitushaku20112021
END:VEVENT
END:VCALENDAR
