BEGIN:VCALENDAR
METHOD:PUBLISH
VERSION:2.0
PRODID:-//Eventilla iCal Syndication//NONSGML Liana//EN
BEGIN:VEVENT
UID:xO8YX@eventilla.com
DTSTAMP:20220125T070000Z
DTSTART:20220125T070000Z
DTEND:20220125T143000Z
SUMMARY:Etätyöretriitti
DESCRIPTION:Etätyöretriitti\nOsallistu tuttuun työretriitti-konseptiin omalta etätyöpisteeltäsi!\nEtätyöretriitillä opitaan tuotteliaista työtavoista ja oman ajankäytön johtamisesta. Tavoitteena on häiriöttömän työhön syventymisen ja tehokkaiden menetelmien avulla oppia vähentämään työn aiheuttamaa stressiä.\nEtätyöretriitille tuodaan mukana omat päivän työt\, joita tehdään itsenäisesti\, mutta muiden jäsenten seurassa ja ohjatusti. Päivä on jaettu useampaan työjaksoon hiljaista työskentelyä. Työretriitti koostuu lyhyestä perehdytyksestä\, rytmitetyistä työjaksoista sekä tauoista. Päivän päätteeksi rauhoitutaan ammattilaisen vetämän restoratiivisen joogan parissa\, joka rauhoittaa hermostoa ja antaa kehon vapauttaa stressiä levossa. Voit ilmoittautua mukaan koko päiväksi tai vain aamu- tai iltapäivän osuudelle.\nRetriitiltä mukaan saat valmiuksia\, materiaalia ja vinkkejä tehokkaista työtavoista\, työretriittien toteutuksesta sekä mielen hoitamisesta. Etätyöretriittipäivä on hiljaista työskentelyä eli ethän sovi etäpalavereja päivälle! Sinulla ei tarvitse olla aiempaa kokemusta joogasta.\nOhjelma\n9.00-11.30 Työskentelyä\n11.30–12.45 Lounastauko\n12.45-15.30 Työskentelyä\n15.30-16.30 Restorativiinen jooga\, Sagayoga\n16.45 Etätyöretriitti päättyy\nTyöretriitti on jäsenille avoin ja maksuton. \nKäsittelemme antamiasi tietoja tietosuojaselosteen mukaisesti. Ilmoitathan meille toimisto@specia.fi\, jos et halua antaa tietojasi ilmoittautumislomakkeella. Ilmoittautuessani annan suostumukseni tapahtuman järjestäjälle käyttää tietojani tämän tapahtuman osallistujarekisterissä. Tietoja käytetään ennakkomateriaalin lähettämiseen ja muuhun tapahtumasta tiedottamiseen sekä tapahtumahallintaan. Tietoja säilytetään tapahtuman jälkeen osallistumisen todentamista varten. Tiedot poistetaan tapahtuma- ja koulutusrekisteristä tietosuojapolitiikan mukaisesti määräajassa.
LOCATION:Zoom\, Finland
URL:http://palvelut.specia.fi/retriitti25012022
END:VEVENT
END:VCALENDAR
